BEGIN:VCALENDAR
VERSION:2.0
PRODID:-//Piletilevi//ICS generator//EN
METHOD:PUBLISH
BEGIN:VEVENT
TZID:Europe/Tallinn
DTSTART:20260519T190000
DTEND:20260519T203000
TRANSP:OPAQUE
SEQUENCE:0
UID:69ebcfaf3ec3b
DTSTAMP:20260424T201647Z
SUMMARY:Gatvės teatro spektaklis ''Beton, beton I love you''
DESCRIPTION:Gatvės teatro spektaklis \,\,Beton\, beton I love you’’...
ORGANIZER:Bloom Theory Theatre
LOCATION:Antakalnio g. 35\, šalia ''Akinių ateljė''\, Lietuva\, Vi...
CLASS:PUBLIC
BEGIN:VALARM
TRIGGER:-PT60M
ACTION:DISPLAY
DESCRIPTION:Reminder
END:VALARM
END:VEVENT
END:VCALENDAR