BEGIN:VCALENDAR
VERSION:2.0
PRODID:-//Piletilevi//ICS generator//EN
METHOD:PUBLISH
BEGIN:VEVENT
TZID:Europe/Tallinn
DTSTART:20260509T190000
DTEND:20260509T203000
TRANSP:OPAQUE
SEQUENCE:0
UID:69ebde0750f24
DTSTAMP:20260424T211759Z
SUMMARY:Visk(u)o gali būti
DESCRIPTION:Visk(u)o gali būti“ Improvizacijų šou\, kuriame istorij...
ORGANIZER:''Impronautai'' Asociacija
LOCATION:Naujojo teatro kamerinė salė\, Lietuva\, Vilnius\, A.Jakš...
CLASS:PUBLIC
BEGIN:VALARM
TRIGGER:-PT60M
ACTION:DISPLAY
DESCRIPTION:Reminder
END:VALARM
END:VEVENT
END:VCALENDAR