BEGIN:VCALENDAR
VERSION:2.0
PRODID:-//Piletilevi//ICS generator//EN
METHOD:PUBLISH
BEGIN:VEVENT
TZID:Europe/Tallinn
DTSTART:20260521T200000
DTEND:20260521T220000
TRANSP:OPAQUE
SEQUENCE:0
UID:69ea5a1ff1288
DTSTAMP:20260423T174255Z
SUMMARY:Ten Walls x GØYA | Vasaros terasa
DESCRIPTION:05 21 Ten Walls x GØYA | Vasaros terasa Gegužės 21 dieną...
ORGANIZER:Prakeiktai gerai\, MB
LOCATION:Vasaros terasa\, Lietuva\, Vilnius\, Vilniaus g. 39
CLASS:PUBLIC
BEGIN:VALARM
TRIGGER:-PT60M
ACTION:DISPLAY
DESCRIPTION:Reminder
END:VALARM
END:VEVENT
END:VCALENDAR