BEGIN:VCALENDAR
VERSION:2.0
PRODID:-//Piletilevi//ICS generator//EN
METHOD:PUBLISH
BEGIN:VEVENT
TZID:Europe/Tallinn
DTSTART:20261016T190000
DTEND:20261016T210000
TRANSP:OPAQUE
SEQUENCE:0
UID:69e915805259a
DTSTAMP:20260422T183752Z
SUMMARY:Spektaklis ''Haroldas ir Modė''
DESCRIPTION:Legendinis Užupio dramos teatro spektaklis! Provokuojanti k...
ORGANIZER:Vilniaus inovatyvaus teatro asociacija
LOCATION:Teatro krantas\, Lietuva\, Vilnius\, Žvejų g. 2
CLASS:PUBLIC
BEGIN:VALARM
TRIGGER:-PT60M
ACTION:DISPLAY
DESCRIPTION:Reminder
END:VALARM
END:VEVENT
END:VCALENDAR