BEGIN:VCALENDAR
VERSION:2.0
PRODID:-//Piletilevi//ICS generator//EN
METHOD:PUBLISH
BEGIN:VEVENT
TZID:Europe/Tallinn
DTSTART:20260520T193000
DTEND:20260520T210000
TRANSP:OPAQUE
SEQUENCE:0
UID:69eb2798a4631
DTSTAMP:20260424T081936Z
SUMMARY:IMPROWOODAS / Širvintos
DESCRIPTION:Nepakartojamas vakaras!   IMPROWOODE    Jau ketverius met...
ORGANIZER:Sunday on monday\, MB
LOCATION:DEBUT BISTRO ŠIRVINTOS\, Lietuva\, Širvintų seniūnija\, ...
CLASS:PUBLIC
BEGIN:VALARM
TRIGGER:-PT60M
ACTION:DISPLAY
DESCRIPTION:Reminder
END:VALARM
END:VEVENT
END:VCALENDAR