BEGIN:VCALENDAR
VERSION:2.0
PRODID:-//Piletilevi//ICS generator//EN
METHOD:PUBLISH
BEGIN:VEVENT
TZID:Europe/Tallinn
DTSTART:20260509T180000
DTEND:20260509T193000
TRANSP:OPAQUE
SEQUENCE:0
UID:69e79eff0f47c
DTSTAMP:20260421T155959Z
SUMMARY:PREMJERA | Psichologinis trileris TYLI NAKTIS | rež. Tadas Montrimas | Taško teatras
DESCRIPTION:PREMJERA. Psichologinis trileris TYLI NAKTIS | rež. Tadas M...
ORGANIZER:Taško teatras\, VšĮ
LOCATION:Klaipėdos Kultūros fabrikas\, Lietuva\, Klaipėda\, Bangų...
CLASS:PUBLIC
BEGIN:VALARM
TRIGGER:-PT60M
ACTION:DISPLAY
DESCRIPTION:Reminder
END:VALARM
END:VEVENT
END:VCALENDAR