BEGIN:VCALENDAR
VERSION:2.0
PRODID:-//Piletilevi//ICS generator//EN
METHOD:PUBLISH
BEGIN:VEVENT
TZID:Europe/Tallinn
DTSTART:20260723T200000
DTEND:20260723T220000
TRANSP:OPAQUE
SEQUENCE:0
UID:69ea5dfdbb416
DTSTAMP:20260423T175925Z
SUMMARY:Šventinis Bankuchenas | Vasaros terasa
DESCRIPTION:Šventinis Bankuchenas | Vasaros Terasa Kas bebūtumėte - r...
ORGANIZER:Aš tai už\, MB
LOCATION:Vasaros terasa\, Lietuva\, Vilnius\, Vilniaus g. 39
CLASS:PUBLIC
BEGIN:VALARM
TRIGGER:-PT60M
ACTION:DISPLAY
DESCRIPTION:Reminder
END:VALARM
END:VEVENT
END:VCALENDAR