BEGIN:VCALENDAR
VERSION:2.0
PRODID:-//Piletilevi//ICS generator//EN
METHOD:PUBLISH
BEGIN:VEVENT
TZID:Europe/Tallinn
DTSTART:20260523T180000
DTEND:20260523T193000
TRANSP:OPAQUE
SEQUENCE:0
UID:69eb26b06d4a0
DTSTAMP:20260424T081544Z
SUMMARY:Improvizacijų šou ILGAS
DESCRIPTION:ILGAS – improvizuota komedija Klaipėdoje   Yra spektakli...
ORGANIZER:Improvizacija visiems\, VšĮ
LOCATION:ARTYN teatras\, Lietuva\, Klaipėda\, Danės g. 8
CLASS:PUBLIC
BEGIN:VALARM
TRIGGER:-PT60M
ACTION:DISPLAY
DESCRIPTION:Reminder
END:VALARM
END:VEVENT
END:VCALENDAR