BEGIN:VCALENDAR
VERSION:2.0
PRODID:-//Piletilevi//ICS generator//EN
METHOD:PUBLISH
BEGIN:VEVENT
TZID:Europe/Tallinn
DTSTART:20260425T180000
DTEND:20260425T194400
TRANSP:OPAQUE
SEQUENCE:0
UID:69e611ac8600c
DTSTAMP:20260420T114444Z
SUMMARY:Liumjerai! | Kino filmas | Visaginas
DESCRIPTION:Broliai Louis ir Auguste’as Lumière’ai\, kino tėvai\, ...
ORGANIZER:Visagino kultūros centras BĮ
LOCATION:Visagino kultūros centras\, ''Draugystė''\, Lietuva\, Visa...
CLASS:PUBLIC
BEGIN:VALARM
TRIGGER:-PT60M
ACTION:DISPLAY
DESCRIPTION:Reminder
END:VALARM
END:VEVENT
END:VCALENDAR