BEGIN:VCALENDAR
VERSION:2.0
PRODID:-//Piletilevi//ICS generator//EN
METHOD:PUBLISH
BEGIN:VEVENT
TZID:Europe/Tallinn
DTSTART:20260424T180000
DTEND:20260424T200700
TRANSP:OPAQUE
SEQUENCE:0
UID:69e6105c1f491
DTSTAMP:20260420T113908Z
SUMMARY:Francas | Kino filmas | Visaginas
DESCRIPTION:Francas (SKN) Agnieszka Holland 2025 Lenkija\, Prancūzija...
ORGANIZER:Visagino kultūros centras BĮ
LOCATION:Visagino kultūros centras\, ''Draugystė''\, Lietuva\, Visa...
CLASS:PUBLIC
BEGIN:VALARM
TRIGGER:-PT60M
ACTION:DISPLAY
DESCRIPTION:Reminder
END:VALARM
END:VEVENT
END:VCALENDAR