BEGIN:VCALENDAR
VERSION:2.0
PRODID:-//Piletilevi//ICS generator//EN
METHOD:PUBLISH
BEGIN:VEVENT
TZID:Europe/Tallinn
DTSTART:20260421T180000
DTEND:20260421T180000
TRANSP:OPAQUE
SEQUENCE:0
UID:69e6120465f60
DTSTAMP:20260420T114612Z
SUMMARY:Aris | Kino filmas | Visaginas
DESCRIPTION:Aris – nervingas jaunuolis\, bandantis atskleisti poezijos...
ORGANIZER:Visagino kultūros centras BĮ
LOCATION:Visagino kultūros centras\, ''Draugystė''\, Lietuva\, Visa...
CLASS:PUBLIC
BEGIN:VALARM
TRIGGER:-PT60M
ACTION:DISPLAY
DESCRIPTION:Reminder
END:VALARM
END:VEVENT
END:VCALENDAR