BEGIN:VCALENDAR
VERSION:2.0
PRODID:-//Piletilevi//ICS generator//EN
METHOD:PUBLISH
BEGIN:VEVENT
TZID:Europe/Tallinn
DTSTART:20260517T180000
DTEND:20260517T184000
TRANSP:OPAQUE
SEQUENCE:0
UID:69e72a75c11f7
DTSTAMP:20260421T074245Z
SUMMARY:PREMJERA | šokio performansas | man niekada nepriklausiusi kaltė | Vilnius
DESCRIPTION:  PREMJERA | man niekada nepriklausiusi kaltė  Idėja: Adr...
ORGANIZER:Irgi projektai\, VšĮ
LOCATION:Galerija Arka\, Lietuva\, Vilnius\, Aušros Vartų g. 7
CLASS:PUBLIC
BEGIN:VALARM
TRIGGER:-PT60M
ACTION:DISPLAY
DESCRIPTION:Reminder
END:VALARM
END:VEVENT
END:VCALENDAR