BEGIN:VCALENDAR
VERSION:2.0
PRODID:-//Piletilevi//ICS generator//EN
METHOD:PUBLISH
BEGIN:VEVENT
TZID:Europe/Tallinn
DTSTART:20260518T180000
DTEND:20260518T184000
TRANSP:OPAQUE
SEQUENCE:0
UID:69e72fe68029c
DTSTAMP:20260421T080558Z
SUMMARY:PREMJERA | šokio performansas | man niekada nepriklausiusi kaltė | Kaunas
DESCRIPTION:PREMJERA | man niekada nepriklausiusi kaltė  Svarbu: Rengin...
ORGANIZER:Irgi projektai\, VšĮ
LOCATION:Kauno apskrities viešoji Ąžuolyno biblioteka. Renginių e...
CLASS:PUBLIC
BEGIN:VALARM
TRIGGER:-PT60M
ACTION:DISPLAY
DESCRIPTION:Reminder
END:VALARM
END:VEVENT
END:VCALENDAR