BEGIN:VCALENDAR
VERSION:2.0
PRODID:-//Piletilevi//ICS generator//EN
METHOD:PUBLISH
BEGIN:VEVENT
TZID:Europe/Tallinn
DTSTART:20260523T110000
DTEND:20260523T114000
TRANSP:OPAQUE
SEQUENCE:0
UID:69eb2922dda69
DTSTAMP:20260424T082610Z
SUMMARY:Evoliucija | Rež. Birutė Banevičiūtė
DESCRIPTION:Įtraukus judesio spektaklis 6-18 mėn. kūdikiams EVOLIUCIJ...
ORGANIZER:Vilniaus Keistuolių teatras\, VšĮ
LOCATION:Keistuolių teatras\, Lietuva\, Vilnius\, Laisvės pr. 60
CLASS:PUBLIC
BEGIN:VALARM
TRIGGER:-PT60M
ACTION:DISPLAY
DESCRIPTION:Reminder
END:VALARM
END:VEVENT
END:VCALENDAR