BEGIN:VCALENDAR
VERSION:2.0
PRODID:-//Piletilevi//ICS generator//EN
METHOD:PUBLISH
BEGIN:VEVENT
TZID:Europe/Tallinn
DTSTART:20260603T200000
DTEND:20260603T213000
TRANSP:OPAQUE
SEQUENCE:0
UID:69ea5a7226db5
DTSTAMP:20260423T174418Z
SUMMARY:Jurgis Brūzga. Albumo ''Grįšiu'' pristatymo koncertas
DESCRIPTION:Pirmieji 100 bilietų pigiau!   Draugai\, birželio 3-oji m...
ORGANIZER:Aš tai už\, MB
LOCATION:Vasaros terasa\, Lietuva\, Vilnius\, Vilniaus g. 39
CLASS:PUBLIC
BEGIN:VALARM
TRIGGER:-PT60M
ACTION:DISPLAY
DESCRIPTION:Reminder
END:VALARM
END:VEVENT
END:VCALENDAR