BEGIN:VCALENDAR
VERSION:2.0
PRODID:-//Piletilevi//ICS generator//EN
METHOD:PUBLISH
BEGIN:VEVENT
TZID:Europe/Tallinn
DTSTART:20260524T120000
DTEND:20260524T125000
TRANSP:OPAQUE
SEQUENCE:0
UID:69e755ae8ec81
DTSTAMP:20260421T104710Z
SUMMARY:Spektaklis-žaidimas TRYS PARŠIUKAI | rež. T. Montrimas | Taško teatras (Panevėžys)
DESCRIPTION:Spektaklis–žaidimas „TRYS PARŠIUKAI“ | rež. T. Mont...
ORGANIZER:Taško teatras\, VšĮ
LOCATION:Panevėžio teatras MENAS\, Lietuva\, Panevėžys\, Vasario ...
CLASS:PUBLIC
BEGIN:VALARM
TRIGGER:-PT60M
ACTION:DISPLAY
DESCRIPTION:Reminder
END:VALARM
END:VEVENT
END:VCALENDAR