BEGIN:VCALENDAR
VERSION:2.0
PRODID:-//Piletilevi//ICS generator//EN
METHOD:PUBLISH
BEGIN:VEVENT
TZID:Europe/Tallinn
DTSTART:20260524T180000
DTEND:20260524T184000
TRANSP:OPAQUE
SEQUENCE:0
UID:69e775ba2b76f
DTSTAMP:20260421T130354Z
SUMMARY:Šokio-teatro spektaklio premjera KARTAIS GYVENIMAS BŪNA TAMSUS | VILNIUS
DESCRIPTION:Šokio-teatro spektaklis\, premjera    Kūrybinė spektakl...
ORGANIZER:NUEPIKO VšĮ
LOCATION:MENŲ SPAUSTUVĖ\, Lietuva\, Vilnius\, Šiltadaržio g. 6
CLASS:PUBLIC
BEGIN:VALARM
TRIGGER:-PT60M
ACTION:DISPLAY
DESCRIPTION:Reminder
END:VALARM
END:VEVENT
END:VCALENDAR