BEGIN:VCALENDAR
VERSION:2.0
PRODID:-//Piletilevi//ICS generator//EN
METHOD:PUBLISH
BEGIN:VEVENT
TZID:Europe/Tallinn
DTSTART:20260423T193000
DTEND:20260423T220000
TRANSP:OPAQUE
SEQUENCE:0
UID:69e759aae2612
DTSTAMP:20260421T110410Z
SUMMARY:GRAŽI IR TA GALINGA 10-METIS VILNIUJE / PAPILDOMAS
DESCRIPTION:GRAŽI IR TA GALINGA 10-METIS VILNIUJE / PAPILDOMAS Įpilkit...
ORGANIZER:Tilto namai\, VšĮ
LOCATION:TAMSTA muzikos klubas\, Lietuva\, Vilnius\, A. Strazdelio g....
CLASS:PUBLIC
BEGIN:VALARM
TRIGGER:-PT60M
ACTION:DISPLAY
DESCRIPTION:Reminder
END:VALARM
END:VEVENT
END:VCALENDAR