BEGIN:VCALENDAR
VERSION:2.0
PRODID:-//Piletilevi//ICS generator//EN
METHOD:PUBLISH
BEGIN:VEVENT
TZID:Europe/Tallinn
DTSTART:20260814T203000
DTEND:20260814T220000
TRANSP:OPAQUE
SEQUENCE:0
UID:69ea729a22373
DTSTAMP:20260423T192722Z
SUMMARY:G&G SINDIKATAS | Oldman Palanga
DESCRIPTION:Šią vasarą\, net du kartus atvykstam į Palangą. Liepos ...
ORGANIZER:Muzikos herojai\, UAB
LOCATION:OLDMAN Palanga\, Lietuva\, Palanga\, Jūratės g. 2A
CLASS:PUBLIC
BEGIN:VALARM
TRIGGER:-PT60M
ACTION:DISPLAY
DESCRIPTION:Reminder
END:VALARM
END:VEVENT
END:VCALENDAR