BEGIN:VCALENDAR
VERSION:2.0
PRODID:-//Piletilevi//ICS generator//EN
METHOD:PUBLISH
BEGIN:VEVENT
TZID:Europe/Tallinn
DTSTART:20260610T200000
DTEND:20260610T213000
TRANSP:OPAQUE
SEQUENCE:0
UID:69ea595cbfdfd
DTSTAMP:20260423T173940Z
SUMMARY:G&G SINDIKATAS | Vasaros terasa Vilnius
DESCRIPTION:Vasarą tradiciškai atidarome Vilniaus Vasaros terasoj. Vie...
ORGANIZER:Muzikos herojai\, UAB
LOCATION:Vasaros terasa\, Lietuva\, Vilnius\, Vilniaus g. 39
CLASS:PUBLIC
BEGIN:VALARM
TRIGGER:-PT60M
ACTION:DISPLAY
DESCRIPTION:Reminder
END:VALARM
END:VEVENT
END:VCALENDAR