BEGIN:VCALENDAR
VERSION:2.0
PRODID:-//Piletilevi//ICS generator//EN
METHOD:PUBLISH
BEGIN:VEVENT
TZID:Europe/Tallinn
DTSTART:20260606T200000
DTEND:20260606T220000
TRANSP:OPAQUE
SEQUENCE:0
UID:69ea59cd84bd7
DTSTAMP:20260423T174133Z
SUMMARY:Konstantinas Lilas | Vasaros Terasa
DESCRIPTION:Kamerinis Konstantino Lilo koncertas. Klavišiniai\, stygini...
ORGANIZER:Pramogų Grupė\, MB
LOCATION:Vasaros terasa\, Lietuva\, Vilnius\, Vilniaus g. 39
CLASS:PUBLIC
BEGIN:VALARM
TRIGGER:-PT60M
ACTION:DISPLAY
DESCRIPTION:Reminder
END:VALARM
END:VEVENT
END:VCALENDAR