BEGIN:VCALENDAR
VERSION:2.0
PRODID:-//Piletilevi//ICS generator//EN
METHOD:PUBLISH
BEGIN:VEVENT
TZID:Europe/Tallinn
DTSTART:20260502T140000
DTEND:20261231T235900
TRANSP:OPAQUE
SEQUENCE:0
UID:69e7405ea4635
DTSTAMP:20260421T091614Z
SUMMARY:DFK ''Dainava'' 2026 m. sezono abonementas
DESCRIPTION:Futbolas Alytuje yra daugiau nei sportas\, tai tradicija\, p...
ORGANIZER:Alytaus futbolo klubas Dainava
LOCATION:Alytaus Miesto Centrinis Stadionas\, Lietuva\, Alytus\, Biru...
CLASS:PUBLIC
BEGIN:VALARM
TRIGGER:-PT60M
ACTION:DISPLAY
DESCRIPTION:Reminder
END:VALARM
END:VEVENT
END:VCALENDAR