BEGIN:VCALENDAR
VERSION:2.0
PRODID:-//Piletilevi//ICS generator//EN
METHOD:PUBLISH
BEGIN:VEVENT
TZID:Europe/Tallinn
DTSTART:20260923T180000
DTEND:20260923T193000
TRANSP:OPAQUE
SEQUENCE:0
UID:69e6d81b4bc8a
DTSTAMP:20260421T015123Z
SUMMARY:UNĖ | spektaklis aktorės Unės Babickaitės dienoraščių motyvais (Solo teatras)
DESCRIPTION:"UNĖ" - CIKLO „TEATRAS-GYVA ISTORIJA“ RENGINYS RUGSĖJO...
ORGANIZER:Solo teatras\, VšĮ
LOCATION:Lietuvos teatro\, muzikos ir kino muziejus\, Lietuva\, Vilni...
CLASS:PUBLIC
BEGIN:VALARM
TRIGGER:-PT60M
ACTION:DISPLAY
DESCRIPTION:Reminder
END:VALARM
END:VEVENT
END:VCALENDAR