BEGIN:VCALENDAR
VERSION:2.0
PRODID:-//Piletilevi//ICS generator//EN
METHOD:PUBLISH
BEGIN:VEVENT
TZID:Europe/Tallinn
DTSTART:20260703T203000
DTEND:20260703T215000
TRANSP:OPAQUE
SEQUENCE:0
UID:69ea786c95806
DTSTAMP:20260423T195212Z
SUMMARY:GIEDRĖ | Oldman Palanga
DESCRIPTION:Jūra\, saulė\, smėlis ir koncertas Oldman parke! Taip vis...
ORGANIZER:Muzikos herojai\, UAB
LOCATION:OLDMAN Palanga\, Lietuva\, Palanga\, Jūratės g. 2A
CLASS:PUBLIC
BEGIN:VALARM
TRIGGER:-PT60M
ACTION:DISPLAY
DESCRIPTION:Reminder
END:VALARM
END:VEVENT
END:VCALENDAR