BEGIN:VCALENDAR
VERSION:2.0
PRODID:-//Piletilevi//ICS generator//EN
METHOD:PUBLISH
BEGIN:VEVENT
TZID:Europe/Tallinn
DTSTART:20260617T200000
DTEND:20260617T212000
TRANSP:OPAQUE
SEQUENCE:0
UID:69ea5f0b5c1b5
DTSTAMP:20260423T180355Z
SUMMARY:GIEDRÄ– | Vasaros terasa Vilnius
DESCRIPTION:TÄ™siame tradicijÄ… - vasarÄ… pradÄ—ti â€œVasaros terasojeâ€...
ORGANIZER:Muzikos herojai\, UAB
LOCATION:Vasaros terasa\, Lietuva\, Vilnius\, Vilniaus g. 39
CLASS:PUBLIC
BEGIN:VALARM
TRIGGER:-PT60M
ACTION:DISPLAY
DESCRIPTION:Reminder
END:VALARM
END:VEVENT
END:VCALENDAR