BEGIN:VCALENDAR
VERSION:2.0
PRODID:-//Piletilevi//ICS generator//EN
METHOD:PUBLISH
BEGIN:VEVENT
TZID:Europe/Tallinn
DTSTART:20260507T180000
DTEND:20260507T191000
TRANSP:OPAQUE
SEQUENCE:0
UID:69e6114a525ee
DTSTAMP:20260420T114306Z
SUMMARY:Sutikau žmogų | Kino filmas | Visaginas
DESCRIPTION:Sutikau žmogų   Dokumentinis / Trukmė  70' / 2025 /  N...
ORGANIZER:Visagino kultūros centras BĮ
LOCATION:Visagino kultūros centras\, ''Draugystė''\, Lietuva\, Visa...
CLASS:PUBLIC
BEGIN:VALARM
TRIGGER:-PT60M
ACTION:DISPLAY
DESCRIPTION:Reminder
END:VALARM
END:VEVENT
END:VCALENDAR