BEGIN:VCALENDAR
VERSION:2.0
PRODID:-//Piletilevi//ICS generator//EN
METHOD:PUBLISH
BEGIN:VEVENT
TZID:Europe/Tallinn
DTSTART:20260425T160000
DTEND:20260425T174500
TRANSP:OPAQUE
SEQUENCE:0
UID:69e610f2578e6
DTSTAMP:20260420T114138Z
SUMMARY:Mergaitė vardu Gluosnė | Kino filmas | Visaginas
DESCRIPTION:Žanras: fantastinis\, nuotykinis\, šeimai / Cenzas: N-...
ORGANIZER:Visagino kultūros centras BĮ
LOCATION:Visagino kultūros centras\, ''Draugystė''\, Lietuva\, Visa...
CLASS:PUBLIC
BEGIN:VALARM
TRIGGER:-PT60M
ACTION:DISPLAY
DESCRIPTION:Reminder
END:VALARM
END:VEVENT
END:VCALENDAR