BEGIN:VCALENDAR
VERSION:2.0
PRODID:-//Piletilevi//ICS generator//EN
METHOD:PUBLISH
BEGIN:VEVENT
TZID:Europe/Tallinn
DTSTART:20260422T180000
DTEND:20260422T195000
TRANSP:OPAQUE
SEQUENCE:0
UID:69e611d1b2aa0
DTSTAMP:20260420T114521Z
SUMMARY:Primavera | Kino filmas | Visaginas
DESCRIPTION:Primavera (Primavera)   Drama   Režisierius: Damiano Mich...
ORGANIZER:Visagino kultūros centras BĮ
LOCATION:Visagino kultūros centras\, ''Draugystė''\, Lietuva\, Visa...
CLASS:PUBLIC
BEGIN:VALARM
TRIGGER:-PT60M
ACTION:DISPLAY
DESCRIPTION:Reminder
END:VALARM
END:VEVENT
END:VCALENDAR