BEGIN:VCALENDAR
VERSION:2.0
PRODID:-//Piletilevi//ICS generator//EN
METHOD:PUBLISH
BEGIN:VEVENT
TZID:Europe/Tallinn
DTSTART:20260527T180000
DTEND:20260527T194500
TRANSP:OPAQUE
SEQUENCE:0
UID:69e61253bcd41
DTSTAMP:20260420T114731Z
SUMMARY:Totali drama | Kino filmas | Visaginas
DESCRIPTION:Totali drama (The Drama)   Romantinė komedija   Režisier...
ORGANIZER:Visagino kultūros centras BĮ
LOCATION:Visagino kultūros centras\, ''Draugystė''\, Lietuva\, Visa...
CLASS:PUBLIC
BEGIN:VALARM
TRIGGER:-PT60M
ACTION:DISPLAY
DESCRIPTION:Reminder
END:VALARM
END:VEVENT
END:VCALENDAR