BEGIN:VCALENDAR
VERSION:2.0
PRODID:-//Piletilevi//ICS generator//EN
METHOD:PUBLISH
BEGIN:VEVENT
TZID:Europe/Tallinn
DTSTART:20260426T170000
DTEND:20260426T180000
TRANSP:OPAQUE
SEQUENCE:0
UID:69ec2de634f53
DTSTAMP:20260425T025846Z
SUMMARY:Å vytintis cirko Å¡ou visai Å¡eimai!
DESCRIPTION:Å vytintis cirko Å¡ou visai Å¡eimai! Teatro Krante Å¾iÅ«rovÅ...
ORGANIZER:Vilniaus inovatyvaus teatro asociacija
LOCATION:Teatro krantas\, Lietuva\, Vilnius\, Å½vejÅ³ g. 2
CLASS:PUBLIC
BEGIN:VALARM
TRIGGER:-PT60M
ACTION:DISPLAY
DESCRIPTION:Reminder
END:VALARM
END:VEVENT
END:VCALENDAR