BEGIN:VCALENDAR
VERSION:2.0
PRODID:-//Piletilevi//ICS generator//EN
METHOD:PUBLISH
BEGIN:VEVENT
TZID:Europe/Tallinn
DTSTART:20260426T120000
DTEND:20260426T125000
TRANSP:OPAQUE
SEQUENCE:0
UID:69ecccd71b5ab
DTSTAMP:20260425T141655Z
SUMMARY:TIKROJI PELENÄ–S ISTORIJA
DESCRIPTION:Pagal Å arlio Pero\, BroliÅ³ GrimÅ³ ir Eugenijaus Å varco kÅ...
ORGANIZER:Kauno valstybinis lÄ—liÅ³ teatras
LOCATION:Kauno valstybinis lÄ—liÅ³ teatras\, Lietuva\, Kaunas\, Laisv...
CLASS:PUBLIC
BEGIN:VALARM
TRIGGER:-PT60M
ACTION:DISPLAY
DESCRIPTION:Reminder
END:VALARM
END:VEVENT
END:VCALENDAR