BEGIN:VCALENDAR
VERSION:2.0
PRODID:-//Piletilevi//ICS generator//EN
METHOD:PUBLISH
BEGIN:VEVENT
TZID:Europe/Tallinn
DTSTART:20260604T200000
DTEND:20260604T220000
TRANSP:OPAQUE
SEQUENCE:0
UID:69ea5b27f173c
DTSTAMP:20260423T174719Z
SUMMARY:Saulės kliošas | VASAROS TERASA
DESCRIPTION:SAULĖS KLIOŠAS | Vasaros Terasa 06 04 Birželio 4 d. vyks ...
ORGANIZER:Dainuojanti lapė\, VšĮ
LOCATION:Vasaros terasa\, Lietuva\, Vilnius\, Vilniaus g. 39
CLASS:PUBLIC
BEGIN:VALARM
TRIGGER:-PT60M
ACTION:DISPLAY
DESCRIPTION:Reminder
END:VALARM
END:VEVENT
END:VCALENDAR