BEGIN:VCALENDAR
VERSION:2.0
PRODID:-//Piletilevi//ICS generator//EN
METHOD:PUBLISH
BEGIN:VEVENT
TZID:Europe/Tallinn
DTSTART:20260426T150000
DTEND:20260426T160000
TRANSP:OPAQUE
SEQUENCE:0
UID:69ebc67420503
DTSTAMP:20260424T193724Z
SUMMARY:KEISTUOLIAI | Kalnų ežero paslaptis
DESCRIPTION:Muzikinis spektaklis vaikams nuo 6 metų  KALNŲ EŽERO PAS...
ORGANIZER:Vilniaus Keistuolių teatras\, VšĮ
LOCATION:Keistuolių teatras\, Lietuva\, Vilnius\, Laisvės pr. 60
CLASS:PUBLIC
BEGIN:VALARM
TRIGGER:-PT60M
ACTION:DISPLAY
DESCRIPTION:Reminder
END:VALARM
END:VEVENT
END:VCALENDAR