BEGIN:VCALENDAR
VERSION:2.0
PRODID:-//Piletilevi//ICS generator//EN
METHOD:PUBLISH
BEGIN:VEVENT
TZID:Europe/Tallinn
DTSTART:20260528T190000
DTEND:20260528T202000
TRANSP:OPAQUE
SEQUENCE:0
UID:69ebab26dd256
DTSTAMP:20260424T174054Z
SUMMARY:KEISTUOLIAI | DiagnozÄ—: visiÅ¡kas Rudnosiukas
DESCRIPTION:Monospektaklis â€žDIAGNOZÄ–: VISIÅ KAS RUDNOSIUKASâ€œ (arbaÂ...
ORGANIZER:Vilniaus KeistuoliÅ³ teatras\, VÅ¡Ä®
LOCATION:KeistuoliÅ³ teatras\, Lietuva\, Vilnius\, LaisvÄ—s pr. 60
CLASS:PUBLIC
BEGIN:VALARM
TRIGGER:-PT60M
ACTION:DISPLAY
DESCRIPTION:Reminder
END:VALARM
END:VEVENT
END:VCALENDAR