BEGIN:VCALENDAR
VERSION:2.0
PRODID:-//Piletilevi//ICS generator//EN
METHOD:PUBLISH
BEGIN:VEVENT
TZID:Europe/Tallinn
DTSTART:20260613T190000
DTEND:20260613T203000
TRANSP:OPAQUE
SEQUENCE:0
UID:69ebab016f144
DTSTAMP:20260424T174017Z
SUMMARY:METAMORFOZĖ. Pagal Franzo Kafkos kūrybą, rež. Oliver FRLJIĆ
DESCRIPTION:Birželio 13 d.  spektaklis METAMORFOZĖ  titruojamas į ...
ORGANIZER:Lietuvos nacionalinis dramos teatras
LOCATION:Lietuvos nacionalinis dramos teatras\, Lietuva\, Vilnius\, G...
CLASS:PUBLIC
BEGIN:VALARM
TRIGGER:-PT60M
ACTION:DISPLAY
DESCRIPTION:Reminder
END:VALARM
END:VEVENT
END:VCALENDAR