BEGIN:VCALENDAR
VERSION:2.0
PRODID:-//Piletilevi//ICS generator//EN
METHOD:PUBLISH
BEGIN:VEVENT
TZID:Europe/Tallinn
DTSTART:20260610T190000
DTEND:20260610T223000
TRANSP:OPAQUE
SEQUENCE:0
UID:69ebaa974a067
DTSTAMP:20260424T173831Z
SUMMARY:Pagal Alberto Camus romanÄ…. SVETIMAS, reÅ¾. Jernej LORENCI
DESCRIPTION:BirÅ¾elio 10 d. spektakliaiÂ SVETIMASÂ  titruojamas Ä¯ anglÅ...
ORGANIZER:Lietuvos nacionalinis dramos teatras
LOCATION:Lietuvos nacionalinis dramos teatras\, Lietuva\, Vilnius\, G...
CLASS:PUBLIC
BEGIN:VALARM
TRIGGER:-PT60M
ACTION:DISPLAY
DESCRIPTION:Reminder
END:VALARM
END:VEVENT
END:VCALENDAR