BEGIN:VCALENDAR
VERSION:2.0
PRODID:-//Piletilevi//ICS generator//EN
METHOD:PUBLISH
BEGIN:VEVENT
TZID:Europe/Tallinn
DTSTART:20260609T190000
DTEND:20260609T223000
TRANSP:OPAQUE
SEQUENCE:0
UID:69ebaa974a3a7
DTSTAMP:20260424T173831Z
SUMMARY:Pagal Alberto Camus romaną. SVETIMAS, rež. Jernej LORENCI
DESCRIPTION:    Režisierius\, adaptacijos bendraautoris — Jernej L...
ORGANIZER:Lietuvos nacionalinis dramos teatras
LOCATION:Lietuvos nacionalinis dramos teatras\, Lietuva\, Vilnius\, G...
CLASS:PUBLIC
BEGIN:VALARM
TRIGGER:-PT60M
ACTION:DISPLAY
DESCRIPTION:Reminder
END:VALARM
END:VEVENT
END:VCALENDAR