BEGIN:VCALENDAR
VERSION:2.0
PRODID:-//Piletilevi//ICS generator//EN
METHOD:PUBLISH
BEGIN:VEVENT
TZID:Europe/Tallinn
DTSTART:20260515T193000
DTEND:20260515T210000
TRANSP:OPAQUE
SEQUENCE:0
UID:69ebace934347
DTSTAMP:20260424T174825Z
SUMMARY:Birutė Kapustinskaitė. STAND-UP'AS PRASMEI IR BEPRASMYBEI, rež. Eglė ŠVEDKAUSKAITĖ
DESCRIPTION:Gegužės 15 d. spektaklisSTAND-UP'AS PRASMEI IR BEPRASMYBEI...
ORGANIZER:Lietuvos nacionalinis dramos teatras
LOCATION:Lietuvos nacionalinis dramos teatras\, Lietuva\, Vilnius\, G...
CLASS:PUBLIC
BEGIN:VALARM
TRIGGER:-PT60M
ACTION:DISPLAY
DESCRIPTION:Reminder
END:VALARM
END:VEVENT
END:VCALENDAR