BEGIN:VCALENDAR
VERSION:2.0
PRODID:-//Piletilevi//ICS generator//EN
METHOD:PUBLISH
BEGIN:VEVENT
TZID:Europe/Tallinn
DTSTART:20260513T193000
DTEND:20260513T210000
TRANSP:OPAQUE
SEQUENCE:0
UID:69ebabef096b1
DTSTAMP:20260424T174415Z
SUMMARY:Laura Kutkaitė ir aktoriai. TEIRESIJO KRŪTIS, rež. Laura KUTKAITĖ
DESCRIPTION:  Režisierė ir dramaturgė — Laura KUTKAITĖ Tekstų a...
ORGANIZER:Lietuvos nacionalinis dramos teatras
LOCATION:Lietuvos nacionalinis dramos teatras\, Lietuva\, Vilnius\, G...
CLASS:PUBLIC
BEGIN:VALARM
TRIGGER:-PT60M
ACTION:DISPLAY
DESCRIPTION:Reminder
END:VALARM
END:VEVENT
END:VCALENDAR