BEGIN:VCALENDAR
VERSION:2.0
PRODID:-//Piletilevi//ICS generator//EN
METHOD:PUBLISH
BEGIN:VEVENT
TZID:Europe/Tallinn
DTSTART:20261115T160000
DTEND:20261115T172000
TRANSP:OPAQUE
SEQUENCE:0
UID:69eba9c52884d
DTSTAMP:20260424T173501Z
SUMMARY:''Toks gyvenimas'' (''Atleisk man'')
DESCRIPTION:Naujasis teatras pristato šiuolaikinę vieno veiksmo dramą...
ORGANIZER:Neįgaliųjų Naujasis teatras\, VšĮ
LOCATION:Naujojo teatro kamerinė salė\, Lietuva\, Vilnius\, A.Jakš...
CLASS:PUBLIC
BEGIN:VALARM
TRIGGER:-PT60M
ACTION:DISPLAY
DESCRIPTION:Reminder
END:VALARM
END:VEVENT
END:VCALENDAR